BEGIN:VCALENDAR
VERSION:2.0
PRODID:-//https://redchair.com.au///NONSGML kigkonsult.se iCalcreator 2.10.15//
METHOD:PUBLISH
BEGIN:VEVENT
UID:20260424T174440UTC-8218oc6u0c@https://redchair.com.au/
DTSTAMP:20260424T174440Z
DESCRIPTION:Held at Woodfordia from Friday 1st – Sunday 3rd May\, this year
 ’s festival aims to create a space to share environmental knowledge\, insp
 ire one another\, and simply enjoy being immersed in nature. Over the two 
 days and three nights you can participate in talks and workshops about eve
 rything from compassionate conservation strategies\, to overcoming anxiety
  about climate change\, to the future of Woodfordia’s Lake Gkula. There wi
 ll be several environmental projects you can get involved in\, including p
 lanting sessions and nature workshops curated especially for children. In 
 the evenings\, ceremonies\, concerts and comedy will provide the rhythm fo
 r the night along with an Autumn Feast hosted by celebrated Sunshine Coast
  chef\, Matt Golinski.\n https://redchair.com.au/what-s-on/event/474-the-p
 lanting
DTSTART:20200430T230000Z
DTEND:20200503T130000Z
LOCATION:Woodfordia (87 Woodrow Road\, Woodford QLD 4514\, Australia)
SUMMARY:The Planting
URL:https://redchair.com.au/what-s-on/event/474-the-planting
END:VEVENT
END:VCALENDAR
