BEGIN:VCALENDAR
VERSION:2.0
PRODID:-//https://redchair.com.au///NONSGML kigkonsult.se iCalcreator 2.10.15//
METHOD:PUBLISH
BEGIN:VEVENT
UID:20260424T175704UTC-81942AzOh4@https://redchair.com.au/
DTSTAMP:20260424T175704Z
DESCRIPTION:Karl S. Williams emerged from the cane country of Northern New 
 South Wales\, steeped in swamp water and primitive music. His songs are a 
 distillation of life\, love and the human condition\; a kind of folk\, sou
 l\, blues but not as you know it. With a weaponised voice that can soar\, 
 moan and ache with the best of them\, he writes timeless music\, rooted in
  tradition but also firmly conversant with the present. Whether solo or wi
 th his incandescent band\, a Karl S. Williams show is frequently referred 
 to as a spiritual experience - delivered with a visceral conviction that l
 eaves audiences profoundly moved.\nHe built his reputation over many years
  playing around South East QLD before his debut album Heartwood was releas
 ed in 2014 on Footstomp Music/WMA to widespread acclaim. He was recognised
  as artist of the year at the inaugural Gold Coast Music Awards in 2015 an
 d took out a QMA in 2018 for the single ‘Blood To Give’. He has toured ext
 ensively in Australia including festivals such as Bluesfest\, Woodford Fol
 k Festival\, Dark Mofo\, Panama\, Queenscliff and Festival of The Sun and 
 supported artists such as Donavon Frankenreiter\, Mia Dyson\, Tex Perkins\
 , Don Walker and Busby Marou.\nIn 2020 Karl S. Williams will release his n
 ext offering - Lifeblood - an album of new material that replies with vitr
 iol to the ills of our time while offering the ageless solution - love mor
 e. Supported by a national tour at venues and festivals throughout the cou
 ntry.\n \nTour Dates 2020\nSaturday 8 February | THE IMPERIAL HOTEL | Eumu
 ndi QLD | tickets.oztix.com.au\nFriday 14 February | THE JUNK BAR | Brisba
 ne QLD | eventbrite.com.au\nSaturday 22 February | STUDIO 188 | Ipswich QL
 D | studio188.com.au\nFriday 28 February | DUST TEMPLE | Gold Coast QLD | 
 artemus.com.au\nSaturday 29 February | BELLINGEN BREWING COMPANY | Belling
 en NSW | stickytickets.com.au\nSunday 1 March | FLOW BAR | Old Bar NSW | F
 REE\nFriday 6 March | THE RHYTHM HUT | Gosford NSW | therhythmhut.com.au\n
 Friday 13 March | THE BEARDED LADY | Brisbane QLD | tickets.oztix.com.au\n
 Saturday 21 March | MERRI CREEK TAVERN | Melbourne VIC | tix.fomoevents.co
 m\nSunday 22 March | THE BRIDGE HOTEL | Castlemaine VIC | FREE\nFriday 27 
 March | WILLIE SMITH'S APPLESHED | Huon Valley TAS | TBA\nFriday 3 April |
  THE GOLDEN WATTLE | Adelaide SA | TBA https://redchair.com.au/what-s-on/e
 vent/472-karl-s-williams-lifeblood-tour
DTSTART:20200208T093000Z
DTEND:20200403T130000Z
LOCATION:Queensland (Queensland\, Australia)
SUMMARY:Karl S. Williams 'Lifeblood' Tour
URL:https://redchair.com.au/what-s-on/event/472-karl-s-williams-lifeblood-t
 our
END:VEVENT
END:VCALENDAR
