BEGIN:VCALENDAR
VERSION:2.0
PRODID:-//https://redchair.com.au///NONSGML kigkonsult.se iCalcreator 2.10.15//
METHOD:PUBLISH
BEGIN:VEVENT
UID:20260424T174806UTC-38776umDcM@https://redchair.com.au/
DTSTAMP:20260424T174806Z
DESCRIPTION:She draws her inspiration from the Celtic mysteries of the Isle
  of Man\, in the middle of the Irish Sea. He has both the dry deserts of A
 ustralia and a German heritage in his blood. Between them\, Christine Coll
 ister and Michael Fix create a rare musical synergy\, that transcends cult
 ures and musical traditions to enrapture audiences wherever they perform. 
 With Christine’s sultry\, sensuous voice and unsurpassed brilliance in ran
 ge\, combined with Michael’s exquisite guitar playing\, the listener is tr
 ansported to places in the soul where only music can take you.\n \nTour Da
 tes 2020\n \nIllawarra Folk Festival\nFriday 17 January | Time: 1.00pm | L
 ocation: Bulli Showground\, Bulli NSW | Tickets: illawarrafolkfestival.com
 .au\nAlbert Park Yacht Club\nFriday 31 January | Time: 8.00pm | Location: 
 5 Aquatic Dve\, South Melbourne VIC | Tickets: michaelfix.com\nHouse Conce
 rt\nSaturday 1 February | Time: 7.00pm | Location: Melbourne VIC | Tickets
 : michaelfix.com\nHouse Concert\nSunday 2 February | Time: 1.00pm | Locati
 on: Ballarat VIC | Tickets: michaelfix.com\nCentro CBD\nFriday 21 February
  | Time: 8.00pm | Location: 28 Stewart St\, Wollongong NSW | Tickets: tryb
 ooking.com\nSecret Venue\nSaturday 22 February | Time: 7.00pm | Location: 
 Temora NSW | Tickets: trybooking.com\nBloomfield Hall\nSunday 23 February 
 | Time: 7.00pm | Location: 1502 Forest Rd\, Bloomfield NSW | Tickets: mich
 aelfix.com\nOld Bank Music Shop\nTuesday 25 February | Time: 7.00pm | Loca
 tion: 78 Macquarie St\, Dubbo NSW | Tickets: michaelfix.com\nOld Bank Musi
 c Shop\nWednesday 26 February | Time: 7.00pm | Location: 78 Macquarie St\,
  Dubbo NSW | Tickets: michaelfix.com\nHouse Concert\nTuesday 3 March | Tim
 e: 7.30pm | Location: Yatte Yattah NSW | Tickets: michaelfix.com\nHouse Co
 ncert\nThursday 5 March | Time: 7.00pm | Location: Allambie Heights NSW | 
 Tickets: ccollister@mac.com\nIntuition Music School\nFriday 6 March | Time
 : 7.30pm | Location: 1/32 Ace Cres\, Tuggerah NSW | Tickets: michaelfix.co
 m\nJames Theatre\nSaturday 7 March | Time: 7.00pm | Location: 6 Brown St\,
  Dungog NSW | Tickets: michaelfix.com\nQueens St Hall\nSunday 8 March | Ti
 me: 3.00pm | Location: 25 Queens St\, Wingham NSW | Tickets: michaelfix.co
 m\nBrisbane City Hall\nTuesday 10 March | Time: 12.00pm | Location: 64 Ade
 laide St\, Brisbane QLD | Tickets: Free Event\nGympie Civic Centre\nWednes
 day 11 March | Time: 11.00am | Location: 32 Mellor St\, Gympie QLD | Ticke
 ts: eventfinda.com.au\nVonda Youngman Community Centre\nFriday 13 March | 
 Time: 11.00am | Location: 2-4 Knoll Rd\, North Tamborine QLD | Tickets: li
 veatthecentre.com.au\nDust Temple\nFriday 13 March | Time: 8.00pm | Locati
 on: 54 Currumbin Creek Rd\, Currumbin Waters QLD | Tickets: artemus.com.au
 \nCentenary Community Centre\nSaturday 14 March | Time: 7.30pm | Location:
  Mount Ommaney QLD | Tickets: michaelfix.com\nHouse Concert\nSunday 15 Mar
 ch | Time: 5.00pm | Location: Daisy Hill QLD | Tickets: trybooking.com\nGl
 adstone Entertainment Convention Centre\nTuesday 17 March | Time: 6.00pm |
  Location:56 Goondoon St\, Gladstone QLD | Tickets: gladstoneentertainment
 .com\n  https://redchair.com.au/what-s-on/event/467-collister-fix-on-tour
DTSTART:20200117T030000Z
DTEND:20200317T100000Z
LOCATION:South East Queensland (Brisbane QLD\, Australia)
SUMMARY:Collister & Fix On Tour
URL:https://redchair.com.au/what-s-on/event/467-collister-fix-on-tour
END:VEVENT
END:VCALENDAR
